BEGIN:VCALENDAR
VERSION:2.0
PRODID:icalendar-ruby
CALSCALE:GREGORIAN
METHOD:PUBLISH
BEGIN:VEVENT
DTSTAMP:20260423T080135Z
UID:44d3682d-4c80-4b93-9ae2-6bca1aa440dd
DTSTART:20260328T090000
DTEND:20260329T180000
DESCRIPTION:<p><span style="color: rgb(14\, 1\, 1)\;">Cape Town Sixes 2026 
 is an epic weekend of sport\, music\, and entertainment in one of the wor
 ld’s most stunning cities!</span><strong style="color: rgb(14\, 1\, 1)\;
 "> Cape Town Sixes</strong><span style="color: rgb(14\, 1\, 1)\;"> is mo
 re than just a tournament\, it’s a celebration of competition\, camarade
 rie\, and an unbeatable festival vibe.</span></p><p><span style="color: rg
 b(14\, 1\, 1)\;"> </span></p><p><span style="color: rgb(14\, 1\, 1)\;">Pl
 ay or watch </span><strong style="color: rgb(14\, 1\, 1)\;">c</strong><sp
 an style="color: rgb(14\, 1\, 1)\;">ricket and padel at WPCC\, with Table
  Mountain as your backdrop. Off the field: enjoy live music\, great food\
 , and local brews.</span></p><p><br></p>
LOCATION:Ave De Mist\, Rondebosch\, Cape Town\, 7700
SUMMARY:Shyft Cape Town Sixes 2026
URL;VALUE=URI:https://sixes.howler.co.za/sixescpt26
END:VEVENT
END:VCALENDAR
